Workbook

Sheet مجموع المناولة التراكمي
E3: إحصائية تراكمية
B6: مقارنة صنف الصب الجاف بالطن (الميناء الرئيسي) | H6: مقارنة ميناء النفط والغاز (L.P.G) بالطن
B7: الصنف | C7: 2025 | D7: 2026 | E7: نسبة التغير | F7: الفرق | H7: الصنف | I7: 2025 | J7: 2026 | K7: نسبة التغير | L7: الفرق
B8: قمح سائب | C8: =SUM('صادر وارد تراكمية'!D5+'صادر وارد تراكمية'!E5) -> 813845 | D8: =SUM('صادر وارد تراكمية'!B5+'صادر وارد تراكمية'!C5) -> 1044735 | E8: =SUM(D8-C8)/C8 -> 0.28370267 | F8: =SUM(D8-C8) -> 230890 | H8: نفط خام | I8: =SUM('صادر وارد تراكمية'!D90+'صادر وارد تراكمية'!E90) -> 1075146.3 | J8: =SUM('صادر وارد تراكمية'!B90+'صادر وارد تراكمية'!C90) -> 1223955.8 | K8: =SUM(J8-I8)/I8 -> 0.13840862 | L8: =SUM(J8-I8) -> 148809.51
B9: شعير سائب | C9: =SUM('صادر وارد تراكمية'!D6+'صادر وارد تراكمية'!E6) -> 841241 | D9: =SUM('صادر وارد تراكمية'!B6+'صادر وارد تراكمية'!C6) -> 972515 | E9: =SUM(D9-C9)/C9 -> 0.15604803 | F9: =SUM(D9-C9) -> 131274 | H9: بنزين | I9: =SUM('صادر وارد تراكمية'!D91+'صادر وارد تراكمية'!E91) -> 535792.23 | J9: =SUM('صادر وارد تراكمية'!B91+'صادر وارد تراكمية'!C91) -> 805469.99 | K9: =SUM(J9-I9)/I9 -> 0.50332525 | L9: =SUM(J9-I9) -> 269677.76
B10: ذرة سائب | C10: =SUM('صادر وارد تراكمية'!D7+'صادر وارد تراكمية'!E7) -> 555273 | D10: =SUM('صادر وارد تراكمية'!B7+'صادر وارد تراكمية'!C7) -> 1148047 | E10: =SUM(D10-C10)/C10 -> 1.0675361 | F10: =SUM(D10-C10) -> 592774 | H10: ديزل | I10: =SUM('صادر وارد تراكمية'!D92+'صادر وارد تراكمية'!E92) -> 746539.48 | J10: =SUM('صادر وارد تراكمية'!B92+'صادر وارد تراكمية'!C92) -> 799561.09 | K10: =SUM(J10-I10)/I10 -> 0.071023184 | L10: =SUM(J10-I10) -> 53021.611
B11: صويا سائب | C11: =SUM('صادر وارد تراكمية'!D8+'صادر وارد تراكمية'!E8) -> 287692 | D11: =SUM('صادر وارد تراكمية'!B8+'صادر وارد تراكمية'!C8) -> 459155 | E11: =SUM(D11-C11)/C11 -> 0.59599502 | F11: =SUM(D11-C11) -> 171463 | H11: غاز L.P.G | I11: =SUM('صادر وارد تراكمية'!D93+'صادر وارد تراكمية'!E93) -> 371664.18 | J11: =SUM('صادر وارد تراكمية'!B93+'صادر وارد تراكمية'!C93) -> 413180.96 | K11: =SUM(J11-I11)/I11 -> 0.11170509 | L11: =SUM(J11-I11) -> 41516.781
B12: سكر سائب | C12: 0 | D12: =SUM('صادر وارد تراكمية'!B9+'صادر وارد تراكمية'!C9) -> 810402 | E12: 1 | F12: =SUM(D12-C12) -> 810402 | H12: كاز | I12: =SUM('صادر وارد تراكمية'!D94+'صادر وارد تراكمية'!E94) -> 19589.78 | J12: =SUM('صادر وارد تراكمية'!B94+'صادر وارد تراكمية'!C94) -> 54150.53 | K12: =SUM(J12-I12)/I12 -> 1.7642235 | L12: =SUM(J12-I12) -> 34560.75
B13: فحم | C13: =SUM('صادر وارد تراكمية'!D10+'صادر وارد تراكمية'!E10) -> 324125 | D13: =SUM('صادر وارد تراكمية'!B10+'صادر وارد تراكمية'!C10) -> 518911 | E13: =SUM(D13-C13)/C13 -> 0.60095951 | F13: =SUM(D13-C13) -> 194786 | H13: هيدروكسيد البوتاسيوم | I13: =SUM('صادر وارد تراكمية'!D95+'صادر وارد تراكمية'!E95) -> 12081.59 | J13: =SUM('صادر وارد تراكمية'!B95+'صادر وارد تراكمية'!C95) -> 21362.929 | K13: =SUM(J13-I13)/I13 -> 0.76822165 | L13: =SUM(J13-I13) -> 9281.339
B14: مجموع الصب الجاف | C14: =SUM(C8:C13) -> 2822176 | D14: =SUM(D8:D13) -> 4953765 | E14: =SUM(D14-C14)/C14 -> 0.75529981 | F14: =SUM(D14-C14) -> 2131589 | H14: فيول | I14: =SUM('صادر وارد تراكمية'!D96+'صادر وارد تراكمية'!E96) -> 35960.604 | J14: =SUM('صادر وارد تراكمية'!B96+'صادر وارد تراكمية'!C96) -> 147036.33 | K14: =SUM(J14-I14)/I14 -> 3.0888171 | L14: =SUM(J14-I14) -> 111075.73
H15: بروميد الكالسيوم | I15: =SUM('صادر وارد تراكمية'!D97+'صادر وارد تراكمية'!E97) -> 0 | J15: =SUM('صادر وارد تراكمية'!B97+'صادر وارد تراكمية'!C97) -> 0 | K15: 0 | L15: =SUM(J15-I15) -> 0
H16: مواد كيميائيه | I16: =SUM('صادر وارد تراكمية'!D98+'صادر وارد تراكمية'!E98) -> 4457.687 | J16: =SUM('صادر وارد تراكمية'!B98+'صادر وارد تراكمية'!C98) -> 46510.936 | K16: =SUM(J16-I16)/I16 -> 9.4338721 | L16: =SUM(J16-I16) -> 42053.249
B17: مقارنة البضائع العامة بالطن (الميناء الرئيسي) | H17: زيوت معدنية | I17: =SUM('صادر وارد تراكمية'!D99+'صادر وارد تراكمية'!E99) -> 2853.108 | J17: =SUM('صادر وارد تراكمية'!B99+'صادر وارد تراكمية'!C99) -> 32714.773 | K17: =SUM(J17-I17)/I17 -> 10.466363 | L17: =SUM(J17-I17) -> 29861.665
B18: الصنف | C18: 2025 | D18: 2026 | E18: نسبة التغير | F18: الفرق | H18: كلوريدالمغنسيوم- | I18: =SUM('صادر وارد تراكمية'!D100+'صادر وارد تراكمية'!E100) -> 32750.394 | J18: =SUM('صادر وارد تراكمية'!B100+'صادر وارد تراكمية'!C100) -> 0 | K18: =SUM(J18-I18)/I18 -> -1 | L18: =SUM(J18-I18) -> -32750.394
B19: الحديد والمعادن | C19: =SUM('صادر وارد تراكمية'!D17+'صادر وارد تراكمية'!E17) -> 489555 | D19: =SUM('صادر وارد تراكمية'!B17+'صادر وارد تراكمية'!C17) -> 391407 | E19: =SUM(D19-C19)/C19 -> -0.20048411 | F19: =SUM(D19-C19) -> -98148 | H19: زيوت نباتية | I19: =SUM('صادر وارد تراكمية'!D101+'صادر وارد تراكمية'!E101) -> 0 | J19: =SUM('صادر وارد تراكمية'!B101+'صادر وارد تراكمية'!C101) -> 302699.99 | K19: 1 | L19: =SUM(J19-I19) -> 302699.99
B20: الخشب | C20: =SUM('صادر وارد تراكمية'!D18+'صادر وارد تراكمية'!E18) -> 96632 | D20: =SUM('صادر وارد تراكمية'!B18+'صادر وارد تراكمية'!C18) -> 113007 | E20: =SUM(D20-C20)/C20 -> 0.16945732 | F20: =SUM(D20-C20) -> 16375 | H20: مجموع مناولة الصب السائل | I20: =SUM(I8:I19) -> 2836835.3 | J20: =SUM(J8:J19) -> 3846643.3 | K20: =SUM(J20-I20)/I20 -> 0.35596285 | L20: =SUM(J20-I20) -> 1009808
B21: عجائن ورقية | C21: =SUM('صادر وارد تراكمية'!D19+'صادر وارد تراكمية'!E19) -> 43993 | D21: =SUM('صادر وارد تراكمية'!B19+'صادر وارد تراكمية'!C19) -> 107350 | E21: =SUM(D21-C21)/C21 -> 1.4401609 | F21: =SUM(D21-C21) -> 63357
B22: مواد غذائية مكيسة - سكر | C22: =SUM('صادر وارد تراكمية'!D20+'صادر وارد تراكمية'!E20) -> 38107 | D22: =SUM('صادر وارد تراكمية'!B20+'صادر وارد تراكمية'!C20) -> 47999 | E22: =SUM(D22-C22)/C22 -> 0.25958485 | F22: =SUM(D22-C22) -> 9892 | H22: مقارنة ميناء محطة الركاب
B23: مواد غذائية مكيسة - ارز | C23: =SUM('صادر وارد تراكمية'!D21+'صادر وارد تراكمية'!E21) -> 0 | D23: =SUM('صادر وارد تراكمية'!B21+'صادر وارد تراكمية'!C21) -> 112671 | E23: 1 | F23: =SUM(D23-C23) -> 112671 | H23: الصنف | I23: 2025 | J23: 2026 | K23: نسبة التغير | L23: الفرق
B24: مواد خطرة مكيسة -نترات | C24: =SUM('صادر وارد تراكمية'!D22+'صادر وارد تراكمية'!E22) -> 35298 | D24: =SUM('صادر وارد تراكمية'!B22+'صادر وارد تراكمية'!C22) -> 37617 | E24: =SUM(D24-C24)/C24 -> 0.065697773 | F24: =SUM(D24-C24) -> 2319 | H24: عدد الركاب | I24: =SUM('صادر وارد تراكمية'!D70+'صادر وارد تراكمية'!E70) -> 256427 | J24: =SUM('صادر وارد تراكمية'!B70+'صادر وارد تراكمية'!C70) -> 266421 | K24: =SUM(J24-I24)/I24 -> 0.038974055 | L24: =SUM(J24-I24) -> 9994
B25: اعلاف مكيسة | C25: =SUM('صادر وارد تراكمية'!D23+'صادر وارد تراكمية'!E23) -> 26972 | D25: =SUM('صادر وارد تراكمية'!B23+'صادر وارد تراكمية'!C23) -> 23943 | E25: =SUM(D25-C25)/C25 -> -0.11230165 | F25: =SUM(D25-C25) -> -3029 | H25: عدد المركبات والاليات | I25: =SUM('صادر وارد تراكمية'!D83+'صادر وارد تراكمية'!E83) -> 7856 | J25: =SUM('صادر وارد تراكمية'!B83+'صادر وارد تراكمية'!C83) -> 9881 | K25: =SUM(J25-I25)/I25 -> 0.25776477 | L25: =SUM(J25-I25) -> 2025
B26: اسمدة مكيسة | C26: =SUM('صادر وارد تراكمية'!D24+'صادر وارد تراكمية'!E24) -> 5400 | D26: =SUM('صادر وارد تراكمية'!B24+'صادر وارد تراكمية'!C24) -> 0 | E26: =SUM(D26-C26)/C26 -> -1 | F26: =SUM(D26-C26) -> -5400 | H26: عدد الشاحنات | I26: =SUM('صادر وارد تراكمية'!D76+'صادر وارد تراكمية'!E76) -> 59454 | J26: =SUM('صادر وارد تراكمية'!B76+'صادر وارد تراكمية'!C76) -> 68487 | K26: =SUM(J26-I26)/I26 -> 0.15193259 | L26: =SUM(J26-I26) -> 9033
B27: بضائع عامة متنوعة | C27: =SUM('صادر وارد تراكمية'!D25+'صادر وارد تراكمية'!E25) -> 6298 | D27: =SUM('صادر وارد تراكمية'!B25+'صادر وارد تراكمية'!C25) -> 24046 | E27: =SUM(D27-C27)/C27 -> 2.8180375 | F27: =SUM(D27-C27) -> 17748 | H27: بضائع عامة - بالطن | I27: =SUM('صادر وارد تراكمية'!D63+'صادر وارد تراكمية'!E63) -> 880221.7 | J27: =SUM('صادر وارد تراكمية'!B63+'صادر وارد تراكمية'!C63) -> 1138266.9 | K27: =SUM(J27-I27)/I27 -> 0.29315932 | L27: =SUM(J27-I27) -> 258045.2
B28: مواد حجرية - رخام | C28: =SUM('صادر وارد تراكمية'!D26+'صادر وارد تراكمية'!E26) -> 3710 | D28: =SUM('صادر وارد تراكمية'!B26+'صادر وارد تراكمية'!C26) -> 0 | E28: =SUM(D28-C28)/C28 -> -1 | F28: =SUM(D28-C28) -> -3710 | H28: مجموع مناولة محطة الركاب | I28: =SUM(I27:I27) -> 880221.7 | J28: =SUM(J27:J27) -> 1138266.9 | K28: =SUM(J28-I28)/I28 -> 0.29315932 | L28: =SUM(J28-I28) -> 258045.2
B29: معدات وقطع | C29: =SUM('صادر وارد تراكمية'!D27+'صادر وارد تراكمية'!E27) -> 1502 | D29: =SUM('صادر وارد تراكمية'!B27+'صادر وارد تراكمية'!C27) -> 3462 | E29: =SUM(D29-C29)/C29 -> 1.3049268 | F29: =SUM(D29-C29) -> 1960
B30: مواد اولية | C30: =SUM('صادر وارد تراكمية'!D28+'صادر وارد تراكمية'!E28) -> 4409 | D30: =SUM('صادر وارد تراكمية'!B28+'صادر وارد تراكمية'!C28) -> 33373 | E30: =SUM(D30-C30)/C30 -> 6.5692901 | F30: =SUM(D30-C30) -> 28964 | H30: مقارنة عدد حاويات المعاينة المركز الجمركي (ساحة 4)
B31: مجموع البضائع العامة | C31: =SUM(C19:C30) -> 751876 | D31: =SUM(D19:D30) -> 894875 | E31: =SUM(D31-C31)/C31 -> 0.19018961 | F31: =SUM(D31-C31) -> 142999 | H31: الصنف | I31: 2025 | J31: 2026 | K31: نسبة التغير | L31: الفرق
H32: عدد حاويات المعاينة | I32: 51173 | J32: 42180 | K32: =SUM(J32-I32)/I32 -> -0.17573721 | L32: =SUM(J32-I32) -> -8993
B33: مقارنة الاصناف الرئيسية بالطن (الميناء الرئيسي)
B34: الصنف | C34: 2025 | D34: 2026 | E34: نسبة التغير | F34: الفرق | H34: مقارنة المناولة الكلية بالطن واعداد السفن التي انهت تفريغها
B35: صب جاف / طن | C35: =SUM(C14) -> 2822176 | D35: =SUM(D14) -> 4953765 | E35: =SUM(D35-C35)/C35 -> 0.75529981 | F35: =SUM(D35-C35) -> 2131589 | H35: الصنف | I35: 2025 | J35: 2026 | K35: نسبة التغير | L35: الفرق
B36: بضائع عامة / طن | C36: =SUM(C31) -> 751876 | D36: =SUM(D31) -> 894875 | E36: =SUM(D36-C36)/C36 -> 0.19018961 | F36: =SUM(D36-C36) -> 142999 | H36: حجم المناولة الكلية بالطن | I36: =SUM(I37:I39) -> 7368395 | J36: =SUM(J39+J38+J37) -> 10908518 | K36: =SUM(J36-I36)/I36 -> 0.48044699 | L36: =SUM(J36-I36) -> 3540123.2
B37: حيوانات حية / طن | C37: =SUM('صادر وارد تراكمية'!D35+'صادر وارد تراكمية'!E35) -> 77286 | D37: =SUM('صادر وارد تراكمية'!B35+'صادر وارد تراكمية'!C35) -> 74968 | E37: =SUM(D37-C37)/C37 -> -0.029992495 | F37: =SUM(D37-C37) -> -2318 | H37: مناولة الميناء الرئيسي | I37: =SUM(C38) -> 3651338 | J37: =SUM(D38) -> 5923608 | K37: =SUM(J37-I37)/I37 -> 0.6223116 | L37: =SUM(J37-I37) -> 2272270
B38: المجموع | C38: =SUM(C35:C37) -> 3651338 | D38: =SUM(D35:D37) -> 5923608 | E38: =SUM(D38-C38)/C38 -> 0.6223116 | F38: =SUM(D38-C38) -> 2272270 | H38: مناولة ميناء النفط والغاز | I38: =SUM(I20) -> 2836835.3 | J38: =SUM(J20) -> 3846643.3 | K38: =SUM(J38-I38)/I38 -> 0.35596285 | L38: =SUM(J38-I38) -> 1009808
H39: مناولة محطة الركاب | I39: =SUM(I28) -> 880221.7 | J39: =SUM(J28) -> 1138266.9 | K39: =SUM(J39-I39)/I39 -> 0.29315932 | L39: =SUM(J39-I39) -> 258045.2
B40: مقارنة لبعض الاصناف عدد (الميناء الرئيسي) | H40: عدد السفن الميناء الرئيسي# | I40: 297 | J40: 315 | K40: =SUM(J40-I40)/I40 -> 0.060606061 | L40: =SUM(J40-I40) -> 18
B41: الصنف | C41: 2025 | D41: 2026 | E41: نسبة التغير | F41: الفرق | H41: عدد السفن ميناء النفط# | I41: 91 | J41: 127 | K41: =SUM(J41-I41)/I41 -> 0.3956044 | L41: =SUM(J41-I41) -> 36
B42: حيوانات حية -عدد | C42: =SUM('صادر وارد تراكمية'!D41+'صادر وارد تراكمية'!E41) -> 873442 | D42: =SUM('صادر وارد تراكمية'!B41+'صادر وارد تراكمية'!C41) -> 543593 | E42: =SUM(D42-C42)/C42 -> -0.37764271 | F42: =SUM(D42-C42) -> -329849 | H42: عدد السفن ميناء الركاب # | I42: 805 | J42: 831 | K42: =SUM(J42-I42)/I42 -> 0.032298137 | L42: =SUM(J42-I42) -> 26
B43: مركبات واليات -عدد | C43: =SUM('صادر وارد تراكمية'!D47+'صادر وارد تراكمية'!E47) -> 68314 | D43: =SUM('صادر وارد تراكمية'!B47+'صادر وارد تراكمية'!C47) -> 94530 | E43: =SUM(D43-C43)/C43 -> 0.38375736 | F43: =SUM(D43-C43) -> 26216 | H43: المجموع الكلي لعدد السفن # | I43: =SUM(I40:I42) -> 1193 | J43: =SUM(J40:J42) -> 1273 | K43: =SUM(J43-I43)/I43 -> 0.067057837 | L43: =SUM(J43-I43) -> 80
B44: حاويات - عدد | C44: =SUM('صادر وارد تراكمية'!D53+'صادر وارد تراكمية'!E53) -> 523 | D44: =SUM('صادر وارد تراكمية'!B53+'صادر وارد تراكمية'!C53) -> 720 | E44: =SUM(D44-C44)/C44 -> 0.37667304 | F44: =SUM(D44-C44) -> 197

Sheet صادر وارد تراكمية
A1: مقارنة الloaded ship والunloaded ship لنهاية شهر أيلول - 2026 بالمقارنة مع نفس الفترة من العام 2025
A2: مقارنة مناولة الصب الجاف بالطن (الميناء الرئيسي) لنهاية شهر أيلول (2026-2025)
A3: الصنف | B3: 2026 | D3: 2025 | F3: نسبة التغير | G3: الفرق
B4: unloaded ship | C4: loaded ship | D4: unloaded ship | E4: loaded ship
A5: قمح سائب | B5: 1044735 | C5: 0 | D5: 813845 | E5: 0 | F5: =(((C5+B5)/(E5+D5))-((1))) -> 0.28370267 | G5: =SUM(B5+C5)-(D5+E5) -> 230890
A6: شعير سائب | B6: 972515 | C6: 0 | D6: 841241 | E6: 0 | F6: =(((C6+B6)/(E6+D6))-((1))) -> 0.15604803 | G6: =SUM(B6+C6)-(D6+E6) -> 131274
A7: ذرة سائب | B7: 1148047 | C7: 0 | D7: 555273 | E7: 0 | F7: =(((C7+B7)/(E7+D7))-((1))) -> 1.0675361 | G7: =SUM(B7+C7)-(D7+E7) -> 592774
A8: صويا سائب | B8: 459155 | C8: 0 | D8: 287692 | E8: 0 | F8: =(((C8+B8)/(E8+D8))-((1))) -> 0.59599502 | G8: =SUM(B8+C8)-(D8+E8) -> 171463
A9: سكر سائب | B9: 810402 | C9: 0 | D9: 0 | E9: 0 | F9: 1 | G9: =SUM(B9+C9)-(D9+E9) -> 810402
A10: فحم سائب | B10: 518911 | C10: 0 | D10: 324125 | E10: 0 | F10: =(((C10+B10)/(E10+D10))-((1))) -> 0.60095951 | G10: =SUM(B10+C10)-(D10+E10) -> 194786
A11: المجموع | B11: =SUM(B5:B10) -> 4953765 | C11: =SUM(C5:C10) -> 0 | D11: =SUM(D5:D10) -> 2822176 | E11: =SUM(E5:E10) -> 0 | F11: =(((C11+B11)/(E11+D11))-((1))) -> 0.75529981 | G11: =SUM(B11+C11)-(D11+E11) -> 2131589
A12: مجموع الصب الجاف | B12: =SUM(B11+C11) -> 4953765 | D12: =SUM(D11+E11) -> 2822176 | F12: =(((C12+B12)/(E12+D12))-((1))) -> 0.75529981 | G12: =SUM(B12-D12) -> 2131589
A14: مقارنة مناولة البضائع العامة بالطن (الميناء الرئيسي) لنهاية شهر أيلول (2026-2025)
A15: الصنف | B15: 2026 | D15: 2025 | F15: نسبة التغير | G15: الفرق
B16: unloaded ship | C16: loaded ship | D16: unloaded ship | E16: loaded ship
A17: الحديد والمعادن | B17: 391395 | C17: 12 | D17: 488564 | E17: 991 | F17: =(((C17+B17)/(E17+D17))-((1))) -> -0.20048411 | G17: =SUM(B17+C17)-(D17+E17) -> -98148
A18: الخشب | B18: 113007 | C18: 0 | D18: 96578 | E18: 54 | F18: =(((C18+B18)/(E18+D18))-((1))) -> 0.16945732 | G18: =SUM(B18+C18)-(D18+E18) -> 16375
A19: عجائن ورقية | B19: 107350 | C19: 0 | D19: 43993 | E19: 0 | F19: =(((C19+B19)/(E19+D19))-((1))) -> 1.4401609 | G19: =SUM(B19+C19)-(D19+E19) -> 63357
A20: مواد غذائية مكيسة - سكر | B20: 47999 | C20: 0 | D20: 38107 | E20: 0 | F20: =(((C20+B20)/(E20+D20))-((1))) -> 0.25958485 | G20: =SUM(B20+C20)-(D20+E20) -> 9892
A21: مواد غذائية مكيسة - ارز | B21: 112671 | C21: 0 | D21: 0 | E21: 0 | F21: 1 | G21: =SUM(B21+C21)-(D21+E21) -> 112671
A22: مواد خطرة مكيسة -نترات | B22: 29074 | C22: 8543 | D22: 31785 | E22: 3513 | F22: =(((C22+B22)/(E22+D22))-((1))) -> 0.065697773 | G22: =SUM(B22+C22)-(D22+E22) -> 2319
A23: اعلاف مكيسة | B23: 23943 | C23: 0 | D23: 26972 | E23: 0 | F23: =(((C23+B23)/(E23+D23))-((1))) -> -0.11230165 | G23: =SUM(B23+C23)-(D23+E23) -> -3029
A24: اسمدة مكيسة | B24: 0 | C24: 0 | D24: 0 | E24: 5400 | F24: =(((C24+B24)/(E24+D24))-((1))) -> -1 | G24: =SUM(B24+C24)-(D24+E24) -> -5400
A25: بضائع عامة متنوعة | B25: 23805 | C25: 241 | D25: 6079 | E25: 219 | F25: =(((C25+B25)/(E25+D25))-((1))) -> 2.8180375 | G25: =SUM(B25+C25)-(D25+E25) -> 17748
A26: مواد حجرية - رخام | B26: 0 | C26: 0 | D26: 3710 | E26: 0 | F26: =(((C26+B26)/(E26+D26))-((1))) -> -1 | G26: =SUM(B26+C26)-(D26+E26) -> -3710
A27: معدات وقطع | B27: 1340 | C27: 2122 | D27: 1382 | E27: 120 | F27: =(((C27+B27)/(E27+D27))-((1))) -> 1.3049268 | G27: =SUM(B27+C27)-(D27+E27) -> 1960
A28: مواد اولية | B28: 33351 | C28: 22 | D28: 4407 | E28: 2 | F28: =(((C28+B28)/(E28+D28))-((1))) -> 6.5692901 | G28: =SUM(B28+C28)-(D28+E28) -> 28964
A29: المجموع | B29: =SUM(B17:B28) -> 883935 | C29: =SUM(C17:C28) -> 10940 | D29: =SUM(D17:D28) -> 741577 | E29: =SUM(E17:E28) -> 10299 | F29: =(((C29+B29)/(E29+D29))-((1))) -> 0.19018961 | G29: =SUM(B29+C29)-(D29+E29) -> 142999
A30: مجموع البضائع العامة | B30: =SUM(B29+C29) -> 894875 | D30: =SUM(D29+E29) -> 751876 | F30: =SUM(B30-D30)/D30 -> 0.19018961 | G30: =SUM(B30-D30) -> 142999
A32: مقارنة مناولة الحيوانات الحية بالطن (الميناء الرئيسي) لنهاية شهر أيلول (2026-2025)
A33: الصنف | B33: 2026 | D33: 2025 | F33: نسبة التغير | G33: الفرق
B34: unloaded ship | C34: loaded ship | D34: unloaded ship | E34: loaded ship
A35: حيوانات حية -وزن | B35: 74968 | C35: 0 | D35: 77286 | E35: 0 | F35: =(((C35+B35)/(E35+D35))-((1))) -> -0.029992495 | G35: =SUM(B35+C35)-(D35+E35) -> -2318
A36: مجموع الحيوانات الحية بالطن | B36: =SUM(B35:C35) -> 74968 | D36: =SUM(C35:E35) -> 77286 | F36: =SUM(B36-D36)/D36 -> -0.029992495 | G36: =SUM(B36-D36) -> -2318
A38: مقارنة عدد الحيوانات الحية بالراس (الميناء الرئيسي) لنهاية شهر أيلول (2026-2025)
A39: الصنف | B39: 2026 | D39: 2025 | F39: نسبة التغير | G39: الفرق
B40: unloaded ship | C40: loaded ship | D40: unloaded ship | E40: loaded ship
A41: حيوانات حية - عدد | B41: 543593 | C41: 0 | D41: 873442 | E41: 0 | F41: =(((C41+B41)/(E41+D41))-((1))) -> -0.37764271 | G41: =SUM(B41+C41)-(D41+E41) -> -329849
A42: مجموع الحيوانات الحية بالراس | B42: =SUM(B41:C41) -> 543593 | D42: =SUM(D41:E41) -> 873442 | F42: =SUM(B42-D42)/D42 -> -0.37764271 | G42: =SUM(B42-D42) -> -329849
A44: مقارنة عدد المركبات والاليات (الميناء الرئيسي) لنهاية شهر أيلول (2026-2025)
...

Sheet مجموع المناولة الشهري (2)
B4: مقارنة مناولة بضائع الصب الجاف بالطن (الميناء الرئيسي) | H4: مقارنة مناولة ميناء النفط والغاز (L.P.G) بالطن
B5: الصنف | C5: 2025 | D5: 2026 | E5: نسبة التغير | F5: الفرق | H5: الصنف | I5: 2025 | J5: 2026 | K5: نسبة التغير | L5: الفرق
B6: قمح سائب | C6: =SUM('صادر وارد شهرية (2)'!D4+'صادر وارد شهرية (2)'!E4) -> 149000 | D6: =SUM('صادر وارد شهرية (2)'!B4+'صادر وارد شهرية (2)'!C4) -> 242699 | E6: =SUM(D6-C6)/C6 -> 0.62885235 | F6: =SUM(D6-C6) -> 93699 | H6: نفط خام | I6: =SUM('صادر وارد شهرية (2)'!D85+'صادر وارد شهرية (2)'!E85) -> 139405.31 | J6: =SUM('صادر وارد شهرية (2)'!B85+'صادر وارد شهرية (2)'!C85) -> 138987.55 | K6: =SUM(J6-I6)/I6 -> -0.0029967295 | L6: =SUM(J6-I6) -> -417.76
B7: شعير سائب | C7: =SUM('صادر وارد شهرية (2)'!D5+'صادر وارد شهرية (2)'!E5) -> 157811 | D7: =SUM('صادر وارد شهرية (2)'!B5+'صادر وارد شهرية (2)'!C5) -> 57399 | E7: =SUM(D7-C7)/C7 -> -0.63628011 | F7: =SUM(D7-C7) -> -100412 | H7: بنزين | I7: =SUM('صادر وارد شهرية (2)'!D86+'صادر وارد شهرية (2)'!E86) -> 60791.469 | J7: =SUM('صادر وارد شهرية (2)'!B86+'صادر وارد شهرية (2)'!C86) -> 125873.21 | K7: =SUM(J7-I7)/I7 -> 1.0705736 | L7: =SUM(J7-I7) -> 65081.743
B8: ذرة سائب | C8: =SUM('صادر وارد شهرية (2)'!D6+'صادر وارد شهرية (2)'!E6) -> 89911 | D8: =SUM('صادر وارد شهرية (2)'!B6+'صادر وارد شهرية (2)'!C6) -> 154797 | E8: =SUM(D8-C8)/C8 -> 0.72166921 | F8: =SUM(D8-C8) -> 64886 | H8: ديزل | I8: =SUM('صادر وارد شهرية (2)'!D87+'صادر وارد شهرية (2)'!E87) -> 72819.716 | J8: =SUM('صادر وارد شهرية (2)'!B87+'صادر وارد شهرية (2)'!C87) -> 87112.171 | K8: =SUM(J8-I8)/I8 -> 0.19627178 | L8: =SUM(J8-I8) -> 14292.455
B9: صويا سائب | C9: =SUM('صادر وارد شهرية (2)'!D7+'صادر وارد شهرية (2)'!E7) -> 78313 | D9: =SUM('صادر وارد شهرية (2)'!B7+'صادر وارد شهرية (2)'!C7) -> 38909 | E9: =SUM(D9-C9)/C9 -> -0.50316039 | F9: =SUM(D9-C9) -> -39404 | H9: غاز L.P.G | I9: =SUM('صادر وارد شهرية (2)'!D88+'صادر وارد شهرية (2)'!E88) -> 17877.217 | J9: =SUM('صادر وارد شهرية (2)'!B88+'صادر وارد شهرية (2)'!C88) -> 23603.947 | K9: =SUM(J9-I9)/I9 -> 0.32033677 | L9: =SUM(J9-I9) -> 5726.73
B10: سكر سائب | C10: =SUM('صادر وارد شهرية (2)'!D8+'صادر وارد شهرية (2)'!E8) -> 0 | D10: =SUM('صادر وارد شهرية (2)'!B8+'صادر وارد شهرية (2)'!C8) -> 103300 | E10: 1 | F10: =SUM(D10-C10) -> 103300 | H10: كاز | I10: =SUM('صادر وارد شهرية (2)'!D89+'صادر وارد شهرية (2)'!E89) -> 0 | J10: =SUM('صادر وارد شهرية (2)'!B89+'صادر وارد شهرية (2)'!C89) -> 5200.94 | K10: 1 | L10: =SUM(J10-I10) -> 5200.94
B11: فحم | C11: =SUM('صادر وارد شهرية (2)'!D9+'صادر وارد شهرية (2)'!E9) -> 0 | D11: =SUM('صادر وارد شهرية (2)'!B9+'صادر وارد شهرية (2)'!C9) -> 99999 | E11: 1 | F11: =SUM(D11-C11) -> 99999 | H11: هيدروكسيد البوتاسيوم | I11: =SUM('صادر وارد شهرية (2)'!D90+'صادر وارد شهرية (2)'!E90) -> 0 | J11: =SUM('صادر وارد شهرية (2)'!B90+'صادر وارد شهرية (2)'!C90) -> 7595 | K11: 1 | L11: =SUM(J11-I11) -> 7595
B12: مجموع الصب الجاف | C12: =SUM(C6:C11) -> 475035 | D12: =SUM(D6:D11) -> 697103 | E12: =SUM(D12-C12)/C12 -> 0.46747713 | F12: =SUM(D12-C12) -> 222068 | H12: فيول | I12: =SUM('صادر وارد شهرية (2)'!D91+'صادر وارد شهرية (2)'!E91) -> 35960.604 | J12: =SUM('صادر وارد شهرية (2)'!B91+'صادر وارد شهرية (2)'!C91) -> 36854.326 | K12: =SUM(J12-I12)/I12 -> 0.024852808 | L12: =SUM(J12-I12) -> 893.722
H13: بروميد الكالسيوم | I13: =SUM('صادر وارد شهرية (2)'!D92+'صادر وارد شهرية (2)'!E92) -> 0 | J13: =SUM('صادر وارد شهرية (2)'!B92+'صادر وارد شهرية (2)'!C92) -> 0 | K13: 0 | L13: =SUM(J13-I13) -> 0
H14: مواد كيميائيه | I14: =SUM('صادر وارد شهرية (2)'!D93+'صادر وارد شهرية (2)'!E93) -> 0 | J14: =SUM('صادر وارد شهرية (2)'!B93+'صادر وارد شهرية (2)'!C93) -> 0 | K14: 0 | L14: =SUM(J14-I14) -> 0
B15: مقارنة مناولة البضائع العامة بالطن (الميناء الرئيسي) | H15: زيوت معدنية | I15: =SUM('صادر وارد شهرية (2)'!D94+'صادر وارد شهرية (2)'!E94) -> 0 | J15: =SUM('صادر وارد شهرية (2)'!B94+'صادر وارد شهرية (2)'!C94) -> 0 | K15: 0 | L15: =SUM(J15-I15) -> 0
B16: الصنف | C16: 2025 | D16: 2026 | E16: نسبة التغير | F16: الفرق | H16: كلوريدالمغنسيوم- | I16: =SUM('صادر وارد شهرية (2)'!D95+'صادر وارد شهرية (2)'!E95) -> 0 | J16: =SUM('صادر وارد شهرية (2)'!B95+'صادر وارد شهرية (2)'!C95) -> 0 | K16: 0 | L16: =SUM(J16-I16) -> 0
B17: الحديد والمعادن | C17: =SUM('صادر وارد شهرية (2)'!D16+'صادر وارد شهرية (2)'!E16) -> 33906 | D17: =SUM('صادر وارد شهرية (2)'!B16+'صادر وارد شهرية (2)'!C16) -> 65151 | E17: =SUM(D17-C17)/C17 -> 0.92151832 | F17: =SUM(D17-C17) -> 31245 | H17: زيوت نباتية | I17: =SUM('صادر وارد شهرية (2)'!D96+'صادر وارد شهرية (2)'!E96) -> 0 | J17: =SUM('صادر وارد شهرية (2)'!B96+'صادر وارد شهرية (2)'!C96) -> 48357.511 | K17: 1 | L17: =SUM(J17-I17) -> 48357.511
B18: الخشب | C18: =SUM('صادر وارد شهرية (2)'!D17+'صادر وارد شهرية (2)'!E17) -> 26865 | D18: =SUM('صادر وارد شهرية (2)'!B17+'صادر وارد شهرية (2)'!C17) -> 10362 | E18: =SUM(D18-C18)/C18 -> -0.61429369 | F18: =SUM(D18-C18) -> -16503 | H18: مجموع مناولة الصب السائل | I18: =SUM(I6:I17) -> 326854.32 | J18: =SUM(J6:J17) -> 473584.66 | K18: =SUM(J18-I18)/I18 -> 0.44891664 | L18: =SUM(J18-I18) -> 146730.34
B19: عجائن ورقية | C19: =SUM('صادر وارد شهرية (2)'!D18+'صادر وارد شهرية (2)'!E18) -> 0 | D19: =SUM('صادر وارد شهرية (2)'!B18+'صادر وارد شهرية (2)'!C18) -> 19689 | E19: 1 | F19: =SUM(D19-C19) -> 19689
B20: مواد غذائية مكيسة - سكر | C20: =SUM('صادر وارد شهرية (2)'!D19+'صادر وارد شهرية (2)'!E19) -> 0 | D20: =SUM('صادر وارد شهرية (2)'!B19+'صادر وارد شهرية (2)'!C19) -> 0 | E20: 0 | F20: =SUM(D20-C20) -> 0 | H20: مقارنة مناولة ميناء محطة الركاب
B21: مواد غذائية مكيسة - ارز | C21: =SUM('صادر وارد شهرية (2)'!D20+'صادر وارد شهرية (2)'!E20) -> 0 | D21: =SUM('صادر وارد شهرية (2)'!B20+'صادر وارد شهرية (2)'!C20) -> 0 | E21: 0 | F21: =SUM(D21-C21) -> 0 | H21: الصنف | I21: 2025 | J21: 2026 | K21: نسبة التغير | L21: الفرق
B22: مواد خطرة مكيسة -نترات | C22: =SUM('صادر وارد شهرية (2)'!D21+'صادر وارد شهرية (2)'!E21) -> 6820 | D22: =SUM('صادر وارد شهرية (2)'!B21+'صادر وارد شهرية (2)'!C21) -> 5010 | E22: =SUM(D22-C22)/C22 -> -0.26539589 | F22: =SUM(D22-C22) -> -1810 | H22: عدد الركاب | I22: =SUM('صادر وارد شهرية (2)'!D64+'صادر وارد شهرية (2)'!E64) -> 20505 | J22: =SUM('صادر وارد شهرية (2)'!B64+'صادر وارد شهرية (2)'!C64) -> 21466 | K22: =SUM(J22-I22)/I22 -> 0.046866618 | L22: =SUM(J22-I22) -> 961
B23: اعلاف مكيسة | C23: =SUM('صادر وارد شهرية (2)'!D22+'صادر وارد شهرية (2)'!E22) -> 1816 | D23: =SUM('صادر وارد شهرية (2)'!B22+'صادر وارد شهرية (2)'!C22) -> 937 | E23: =SUM(D23-C23)/C23 -> -0.48403084 | F23: =SUM(D23-C23) -> -879 | H23: عدد المركبات والاليات | I23: =SUM('صادر وارد شهرية (2)'!D77+'صادر وارد شهرية (2)'!E77) -> 1069 | J23: =SUM('صادر وارد شهرية (2)'!B77+'صادر وارد شهرية (2)'!C77) -> 1284 | K23: =SUM(J23-I23)/I23 -> 0.20112254 | L23: =SUM(J23-I23) -> 215
B24: اسمدة مكيسة | C24: =SUM('صادر وارد شهرية (2)'!D23+'صادر وارد شهرية (2)'!E23) -> 0 | D24: =SUM('صادر وارد شهرية (2)'!B23+'صادر وارد شهرية (2)'!C23) -> 0 | E24: 0 | F24: =SUM(D24-C24) -> 0 | H24: عدد الشاحنات | I24: =SUM('صادر وارد شهرية (2)'!D70+'صادر وارد شهرية (2)'!E70) -> 6636 | J24: =SUM('صادر وارد شهرية (2)'!B70+'صادر وارد شهرية (2)'!C70) -> 7667 | K24: =SUM(J24-I24)/I24 -> 0.15536468 | L24: =SUM(J24-I24) -> 1031
B25: بضائع عامة متنوعة | C25: =SUM('صادر وارد شهرية (2)'!D24+'صادر وارد شهرية (2)'!E24) -> 2241 | D25: =SUM('صادر وارد شهرية (2)'!B24+'صادر وارد شهرية (2)'!C24) -> 467 | E25: =SUM(D25-C25)/C25 -> -0.79161089 | F25: =SUM(D25-C25) -> -1774 | H25: بضائع عامة - بالطن | I25: =SUM('صادر وارد شهرية (2)'!D58+'صادر وارد شهرية (2)'!E58) -> 101588.63 | J25: =SUM('صادر وارد شهرية (2)'!B58+'صادر وارد شهرية (2)'!C58) -> 148480.3 | K25: =SUM(J25-I25)/I25 -> 0.46158381 | L25: =SUM(J25-I25) -> 46891.669
B26: مواد حجرية - رخام | C26: =SUM('صادر وارد شهرية (2)'!D25+'صادر وارد شهرية (2)'!E25) -> 0 | D26: =SUM('صادر وارد شهرية (2)'!B25+'صادر وارد شهرية (2)'!C25) -> 0 | E26: 0 | F26: =SUM(D26-C26) -> 0 | H26: مجموع مناولة محطة الركاب | I26: =SUM(I25:I25) -> 101588.63 | J26: =SUM(J25:J25) -> 148480.3 | K26: =SUM(J26-I26)/I26 -> 0.46158381 | L26: =SUM(J26-I26) -> 46891.669
B27: معدات وقطع | C27: =SUM('صادر وارد شهرية (2)'!D26+'صادر وارد شهرية (2)'!E26) -> 129 | D27: =SUM('صادر وارد شهرية (2)'!B26+'صادر وارد شهرية (2)'!C26) -> 166 | E27: =SUM(D27-C27)/C27 -> 0.28682171 | F27: =SUM(D27-C27) -> 37
B28: مواد اولية | C28: =SUM('صادر وارد شهرية (2)'!D27+'صادر وارد شهرية (2)'!E27) -> 3005 | D28: =SUM('صادر وارد شهرية (2)'!B27+'صادر وارد شهرية (2)'!C27) -> 59 | E28: =SUM(D28-C28)/C28 -> -0.98036606 | F28: =SUM(D28-C28) -> -2946 | H28: مقارنة عدد حاويات المعاينة المركز الجمركي (ساحة 4)
B29: مجموع البضائع العامة | C29: =SUM(C17:C28) -> 74782 | D29: =SUM(D17:D28) -> 101841 | E29: =SUM(D29-C29)/C29 -> 0.36183841 | F29: =SUM(D29-C29) -> 27059 | H29: الصنف | I29: 2025 | J29: 2026 | K29: نسبة التغير | L29: الفرق
H30: عدد حاويات المعاينة | I30: 5860 | J30: 5538 | K30: =SUM(J30-I30)/I30 -> -0.054948805 | L30: =SUM(J30-I30) -> -322
B31: مقارنة مناولة الاصناف الرئيسية بالطن (الميناء الرئيسي)
B32: الصنف | C32: 2025 | D32: 2026 | E32: نسبة التغير | F32: الفرق | H32: مقارنة المناولة الكلية بالطن واعداد السفن التي انهت تفريغها
B33: صب جاف / طن | C33: =SUM(C12) -> 475035 | D33: =SUM(D12) -> 697103 | E33: =SUM(D33-C33)/C33 -> 0.46747713 | F33: =SUM(D33-C33) -> 222068 | H33: الصنف | I33: 2025 | J33: 2026 | K33: نسبة التغير | L33: الفرق
B34: بضائع عامة / طن | C34: =SUM(C29) -> 74782 | D34: =SUM(D29) -> 101841 | E34: =SUM(D34-C34)/C34 -> 0.36183841 | F34: =SUM(D34-C34) -> 27059 | H34: حجم المناولة الكلية بالطن | I34: =SUM(I35:I37) -> 985933.95 | J34: =SUM(J37+J36+J35) -> 1426257 | K34: =SUM(J34-I34)/I34 -> 0.44660498 | L34: =SUM(J34-I34) -> 440323.01
B35: حيوانات حية / طن | C35: =SUM('صادر وارد شهرية (2)'!D34+'صادر وارد شهرية (2)'!E34) -> 7674 | D35: =SUM('صادر وارد شهرية (2)'!B34+'صادر وارد شهرية (2)'!C34) -> 5248 | E35: =SUM(D35-C35)/C35 -> -0.3161324 | F35: =SUM(D35-C35) -> -2426 | H35: مناولة الميناء الرئيسي | I35: =SUM(C36) -> 557491 | J35: =SUM(D36) -> 804192 | K35: =SUM(J35-I35)/I35 -> 0.44252015 | L35: =SUM(J35-I35) -> 246701
B36: المجموع | C36: =SUM(C33:C35) -> 557491 | D36: =SUM(D33:D35) -> 804192 | E36: =SUM(D36-C36)/C36 -> 0.44252015 | F36: =SUM(D36-C36) -> 246701 | H36: مناولة ميناء النفط والغاز | I36: =SUM(I18) -> 326854.32 | J36: =SUM(J18) -> 473584.66 | K36: =SUM(J36-I36)/I36 -> 0.44891664 | L36: =SUM(J36-I36) -> 146730.34
H37: مناولة محطة الركاب | I37: =SUM(I26) -> 101588.63 | J37: =SUM(J26) -> 148480.3 | K37: =SUM(J37-I37)/I37 -> 0.46158381 | L37: =SUM(J37-I37) -> 46891.669
B38: مقارنة مناولة لبعض الاصناف عدد (الميناء الرئيسي) | H38: عدد السفن الميناء الرئيسي# | I38: 36 | J38: 36 | K38: =SUM(J38-I38)/I38 -> 0 | L38: =SUM(J38-I38) -> 0
B39: الصنف | C39: 2025 | D39: 2026 | E39: نسبة التغير | F39: الفرق | H39: عدد السفن ميناء النفط# | I39: 8 | J39: 13 | K39: =SUM(J39-I39)/I39 -> 0.625 | L39: =SUM(J39-I39) -> 5
B40: حيوانات حية -عدد | C40: =SUM('صادر وارد شهرية (2)'!D40+'صادر وارد شهرية (2)'!E40) -> 83434 | D40: =SUM('صادر وارد شهرية (2)'!B40+'صادر وارد شهرية (2)'!C40) -> 26325 | E40: =SUM(D40-C40)/C40 -> -0.68448115 | F40: =SUM(D40-C40) -> -57109 | H40: عدد السفن ميناء الركاب # | I40: 78 | J40: 95 | K40: =SUM(J40-I40)/I40 -> 0.21794872 | L40: =SUM(J40-I40) -> 17
B41: مركبات واليات -عدد | C41: =SUM('صادر وارد شهرية (2)'!D46+'صادر وارد شهرية (2)'!E46) -> 5306 | D41: =SUM('صادر وارد شهرية (2)'!B46+'صادر وارد شهرية (2)'!C46) -> 22908 | E41: =SUM(D41-C41)/C41 -> 3.3173766 | F41: =SUM(D41-C41) -> 17602 | H41: المجموع الكلي لعدد السفن # | I41: =SUM(I38:I40) -> 122 | J41: =SUM(J38:J40) -> 144 | K41: =SUM(J41-I41)/I41 -> 0.18032787 | L41: =SUM(J41-I41) -> 22
B42: حاويات - عدد | C42: =SUM('صادر وارد شهرية (2)'!D52+'صادر وارد شهرية (2)'!E52) -> 62 | D42: =SUM('صادر وارد شهرية (2)'!B52+'صادر وارد شهرية (2)'!C52) -> 494 | E42: =SUM(D42-C42)/C42 -> 6.9677419 | F42: =SUM(D42-C42) -> 432

Sheet صادر وارد شهرية  (2)
A1: مقارنة مناولة بضائع الصب الجاف بالطن (الميناء الرئيسي)
A2: الصنف | B2: أيلول - 2026 | D2: أيلول - 2025 | F2: نسبة التغير | G2: الفرق
B3: unloaded ship | C3: loaded ship | D3: unloaded ship | E3: loaded ship
A4: قمح سائب | B4: 242699 | C4: 0 | D4: 149000 | E4: 0 | F4: =(((C4+B4)/(E4+D4))-((1))) -> 0.62885235 | G4: =SUM(B4+C4)-(D4+E4) -> 93699
A5: شعير سائب | B5: 57399 | C5: 0 | D5: 157811 | E5: 0 | F5: =(((C5+B5)/(E5+D5))-((1))) -> -0.63628011 | G5: =SUM(B5+C5)-(D5+E5) -> -100412
A6: ذرة سائب | B6: 154797 | C6: 0 | D6: 89911 | E6: 0 | F6: =(((C6+B6)/(E6+D6))-((1))) -> 0.72166921 | G6: =SUM(B6+C6)-(D6+E6) -> 64886
A7: صويا سائب | B7: 38909 | C7: 0 | D7: 78313 | E7: 0 | F7: =(((C7+B7)/(E7+D7))-((1))) -> -0.50316039 | G7: =SUM(B7+C7)-(D7+E7) -> -39404
A8: سكر سائب | B8: 103300 | C8: 0 | D8: 0 | E8: 0 | F8: 1 | G8: =SUM(B8+C8)-(D8+E8) -> 103300
A9: فحم سائب | B9: 99999 | C9: 0 | D9: 0 | E9: 0 | F9: 1 | G9: =SUM(B9+C9)-(D9+E9) -> 99999
A10: المجموع | B10: =SUM(B4:B9) -> 697103 | C10: =SUM(C4:C9) -> 0 | D10: =SUM(D4:D9) -> 475035 | E10: =SUM(E4:E9) -> 0 | F10: =(((C10+B10)/(E10+D10))-((1))) -> 0.46747713 | G10: =SUM(B10+C10)-(D10+E10) -> 222068
A11: مجموع الصب الجاف | B11: =SUM(B10+C10) -> 697103 | D11: =SUM(D10+E10) -> 475035 | F11: =(((C11+B11)/(E11+D11))-((1))) -> 0.46747713 | G11: =SUM(E11-B11) -> -697103
A13: مقارنة مناولة البضائع العامة بالطن (الميناء الرئيسي)
A14: الصنف | B14: أيلول - 2026 | D14: أيلول - 2025 | F14: نسبة التغير | G14: الفرق
B15: unloaded ship | C15: loaded ship | D15: unloaded ship | E15: loaded ship
A16: الحديد والمعادن | B16: 65151 | C16: 0 | D16: 32915 | E16: 991 | F16: =(((C16+B16)/(E16+D16))-((1))) -> 0.92151832 | G16: =SUM(B16+C16)-(D16+E16) -> 31245
A17: الخشب | B17: 10362 | C17: 0 | D17: 26811 | E17: 54 | F17: =(((C17+B17)/(E17+D17))-((1))) -> -0.61429369 | G17: =SUM(B17+C17)-(D17+E17) -> -16503
A18: عجائن ورقية | B18: 19689 | C18: 0 | D18: 0 | E18: 0 | F18: 1 | G18: =SUM(B18+C18)-(D18+E18) -> 19689
A19: مواد غذائية مكيسة - سكر | B19: 0 | C19: 0 | D19: 0 | E19: 0 | F19: 0 | G19: =SUM(B19+C19)-(D19+E19) -> 0
A20: مواد غذائية مكيسة - أرز | B20: 0 | C20: 0 | D20: 0 | E20: 0 | F20: 0 | G20: =SUM(B20+C20)-(D20+E20) -> 0
A21: مواد خطرة مكيسة - نترات | B21: 5010 | C21: 0 | D21: 4039 | E21: 2781 | F21: =(((C21+B21)/(E21+D21))-((1))) -> -0.26539589 | G21: =SUM(B21+C21)-(D21+E21) -> -1810
A22: اعلاف مكيسة | B22: 937 | C22: 0 | D22: 1816 | E22: 0 | F22: =(((C22+B22)/(E22+D22))-((1))) -> -0.48403084 | G22: =SUM(B22+C22)-(D22+E22) -> -879
A23: اسمدة مكيسة | B23: 0 | C23: 0 | D23: 0 | E23: 0 | F23: 0 | G23: =SUM(B23+C23)-(D23+E23) -> 0
A24: بضائع عامة متنوعة | B24: 437 | C24: 30 | D24: 2209 | E24: 32 | F24: =(((C24+B24)/(E24+D24))-((1))) -> -0.79161089 | G24: =SUM(B24+C24)-(D24+E24) -> -1774
A25: مواد حجرية - رخام | B25: 0 | C25: 0 | D25: 0 | E25: 0 | F25: 0 | G25: =SUM(B25+C25)-(D25+E25) -> 0
A26: معدات وقطع | B26: 145 | C26: 21 | D26: 112 | E26: 17 | F26: =(((C26+B26)/(E26+D26))-((1))) -> 0.28682171 | G26: =SUM(B26+C26)-(D26+E26) -> 37
A27: مواد اولية | B27: 54 | C27: 5 | D27: 3005 | E27: 0 | F27: =(((C27+B27)/(E27+D27))-((1))) -> -0.98036606 | G27: =SUM(B27+C27)-(D27+E27) -> -2946
A28: المجموع | B28: =SUM(B16:B27) -> 101785 | C28: =SUM(C16:C27) -> 56 | D28: =SUM(D16:D27) -> 70907 | E28: =SUM(E16:E27) -> 3875 | F28: =(((C28+B28)/(E28+D28))-((1))) -> 0.36183841 | G28: =SUM(B28+C28)-(D28+E28) -> 27059
A29: مجموع البضائع العامة | B29: =SUM(B28+C28) -> 101841 | D29: =SUM(D28+E28) -> 74782 | F29: =SUM(B29-D29)/D29 -> 0.36183841 | G29: =SUM(B29-D29) -> 27059
A31: مقارنة مناولة الحيوانات الحية بالطن (الميناء الرئيسي)
A32: الصنف | B32: أيلول - 2026 | D32: أيلول - 2025 | F32: نسبة التغير | G32: الفرق
B33: unloaded ship | C33: loaded ship | D33: unloaded ship | E33: loaded ship
A34: حيوانات حية -وزن | B34: 5248 | C34: 0 | D34: 7674 | E34: 0 | F34: =(((C34+B34)/(E34+D34))-((1))) -> -0.3161324 | G34: =SUM(B34+C34)-(D34+E34) -> -2426
A35: مجموع الحيوانات الحية بالطن | B35: =SUM(B34:C34) -> 5248 | D35: =SUM(D34:E34) -> 7674 | F35: =SUM(B35-D35)/D35 -> -0.3161324 | G35: =SUM(B35-D35) -> -2426
A37: مقارنة مناولة عدد الحيوانات الحية بالراس (الميناء الرئيسي)
A38: الصنف | B38: أيلول - 2026 | D38: أيلول - 2025 | F38: نسبة التغير | G38: الفرق
B39: unloaded ship | C39: loaded ship | D39: unloaded ship | E39: loaded ship
A40: حيوانات حية - عدد | B40: 26325 | C40: 0 | D40: 83434 | E40: 0 | F40: =(((C40+B40)/(E40+D40))-((1))) -> -0.68448115 | G40: =SUM(B40+C40)-(D40+E40) -> -57109
A41: مجموع الحيوانات الحية بالراس | B41: =SUM(B40:C40) -> 26325 | D41: =SUM(D40:E40) -> 83434 | F41: =SUM(B41-D41)/D41 -> -0.68448115 | G41: =SUM(B41-D41) -> -57109
A43: مقارنة مناولة عدد المركبات والاليات (الميناء الرئيسي)
A44: الصنف | B44: أيلول - 2026 | D44: أيلول - 2025 | F44: نسبة التغير | G44: الفرق
...
